BEGIN:VCALENDAR
VERSION:2.0
PRODID:SchoolNow
CALSCALE:GREGORIAN
BEGIN:VEVENT
UID:75a1be50-7d38-11f0-b258-0e8b14fcf377
DTSTAMP:20251210T203920Z
SUMMARY:Entrada CDD Meeting - Jun. 2026
LOCATION:460 Rio San Juan Road\, St. Augustine\, FL 32084
URL;VALUE=URI:https://www.entradacdd.org/calendar/8522551/entrada-cdd-meeti
 ng-jun-2026
DTSTART:20260610T143000Z
DTEND:20260610T153000Z
END:VEVENT
END:VCALENDAR
